Workbook

Sheet Planning
A1: Date | B1: Jour | C1: Service | D1: Heure début | E1: Heure fin | F1: Pause (h) | G1: Collaborateur | H1: Poste | I1: Ville | J1: Heures prévues | K1: Taux horaire (€) | L1: Coût prévu (€) | M1: Disponibilité | N1: Statut | O1: Commentaire
A2: 46300 | B2: =IF($A2="","",TEXT($A2,"dddd")) | C2: Déjeuner | D2: 0.45833333 | E2: 0.625 | F2: 0.25 | G2: Camille Martin | H2: Serveuse | I2: Lyon | J2: =IF(OR($D2="",$E2=""),"",MOD($E2-$D2,1)*24-IF($F2="",0,$F2)) | K2: =IF($G2="","",IFERROR(VLOOKUP($G2,'Équipe'!$A$2:$G$101,6,FALSE),0)) | L2: =IF(OR($J2="",$K2=""),"",$J2*$K2) | M2: =IF($G2="","",IF(COUNTIF('Équipe'!$A$2:$A$101,$G2)>0,"Référencé","À vérifier")) | N2: Confirmé | O2: Service du midi
A3: 46300 | B3: =IF($A3="","",TEXT($A3,"dddd")) | C3: Déjeuner | D3: 0.4375 | E3: 0.64583333 | F3: 0.25 | G3: Julien Bernard | H3: Chef de cuisine | I3: Lyon | J3: =IF(OR($D3="",$E3=""),"",MOD($E3-$D3,1)*24-IF($F3="",0,$F3)) | K3: =IF($G3="","",IFERROR(VLOOKUP($G3,'Équipe'!$A$2:$G$101,6,FALSE),0)) | L3: =IF(OR($J3="",$K3=""),"",$J3*$K3) | M3: =IF($G3="","",IF(COUNTIF('Équipe'!$A$2:$A$101,$G3)>0,"Référencé","À vérifier")) | N3: Confirmé | O3: Préparation et envoi
A4: 46301 | B4: =IF($A4="","",TEXT($A4,"dddd")) | C4: Déjeuner | D4: 0.45833333 | E4: 0.625 | F4: 0.25 | G4: Chloé Petit | H4: Commis de cuisine | I4: Lyon | J4: =IF(OR($D4="",$E4=""),"",MOD($E4-$D4,1)*24-IF($F4="",0,$F4)) | K4: =IF($G4="","",IFERROR(VLOOKUP($G4,'Équipe'!$A$2:$G$101,6,FALSE),0)) | L4: =IF(OR($J4="",$K4=""),"",$J4*$K4) | M4: =IF($G4="","",IF(COUNTIF('Équipe'!$A$2:$A$101,$G4)>0,"Référencé","À vérifier")) | N4: À confirmer | O4: Mise en place
A5: 46302 | B5: =IF($A5="","",TEXT($A5,"dddd")) | C5: Dîner | D5: 0.75 | E5: 0.97916667 | F5: 0.5 | G5: Thomas Robert | H5: Serveur | I5: Lyon | J5: =IF(OR($D5="",$E5=""),"",MOD($E5-$D5,1)*24-IF($F5="",0,$F5)) | K5: =IF($G5="","",IFERROR(VLOOKUP($G5,'Équipe'!$A$2:$G$101,6,FALSE),0)) | L5: =IF(OR($J5="",$K5=""),"",$J5*$K5) | M5: =IF($G5="","",IF(COUNTIF('Équipe'!$A$2:$A$101,$G5)>0,"Référencé","À vérifier")) | N5: Confirmé | O5: Service en salle
A6: 46303 | B6: =IF($A6="","",TEXT($A6,"dddd")) | C6: Dîner | D6: 0.75 | E6: 0.97916667 | F6: 0.25 | G6: Léa Moreau | H6: Barmaid | I6: Lyon | J6: =IF(OR($D6="",$E6=""),"",MOD($E6-$D6,1)*24-IF($F6="",0,$F6)) | K6: =IF($G6="","",IFERROR(VLOOKUP($G6,'Équipe'!$A$2:$G$101,6,FALSE),0)) | L6: =IF(OR($J6="",$K6=""),"",$J6*$K6) | M6: =IF($G6="","",IF(COUNTIF('Équipe'!$A$2:$A$101,$G6)>0,"Référencé","À vérifier")) | N6: Confirmé | O6: Cocktails et bar
A7: 46303 | B7: =IF($A7="","",TEXT($A7,"dddd")) | C7: Dîner | D7: 0.72916667 | E7: 0.97916667 | F7: 0.25 | G7: Nicolas Leroy | H7: Second de cuisine | I7: Lyon | J7: =IF(OR($D7="",$E7=""),"",MOD($E7-$D7,1)*24-IF($F7="",0,$F7)) | K7: =IF($G7="","",IFERROR(VLOOKUP($G7,'Équipe'!$A$2:$G$101,6,FALSE),0)) | L7: =IF(OR($J7="",$K7=""),"",$J7*$K7) | M7: =IF($G7="","",IF(COUNTIF('Équipe'!$A$2:$A$101,$G7)>0,"Référencé","À vérifier")) | N7: Confirmé | O7: Coordination cuisine
A8: 46304 | B8: =IF($A8="","",TEXT($A8,"dddd")) | C8: Déjeuner | D8: 0.45833333 | E8: 0.625 | F8: 0.25 | G8: Manon Simon | H8: Serveuse | I8: Lyon | J8: =IF(OR($D8="",$E8=""),"",MOD($E8-$D8,1)*24-IF($F8="",0,$F8)) | K8: =IF($G8="","",IFERROR(VLOOKUP($G8,'Équipe'!$A$2:$G$101,6,FALSE),0)) | L8: =IF(OR($J8="",$K8=""),"",$J8*$K8) | M8: =IF($G8="","",IF(COUNTIF('Équipe'!$A$2:$A$101,$G8)>0,"Référencé","À vérifier")) | N8: À confirmer | O8: Terrasse si météo favorable
A9: 46305 | B9: =IF($A9="","",TEXT($A9,"dddd")) | C9: Dîner | D9: 0.75 | E9: 0.97916667 | F9: 0.5 | G9: Hugo Laurent | H9: Plongeur | I9: Lyon | J9: =IF(OR($D9="",$E9=""),"",MOD($E9-$D9,1)*24-IF($F9="",0,$F9)) | K9: =IF($G9="","",IFERROR(VLOOKUP($G9,'Équipe'!$A$2:$G$101,6,FALSE),0)) | L9: =IF(OR($J9="",$K9=""),"",$J9*$K9) | M9: =IF($G9="","",IF(COUNTIF('Équipe'!$A$2:$A$101,$G9)>0,"Référencé","À vérifier")) | N9: Remplaçant | O9: Renfort week-end
A10: 46305 | B10: =IF($A10="","",TEXT($A10,"dddd")) | C10: Dîner | D10: 0.75 | E10: 0.97916667 | F10: 0.25 | G10: Émilie Roux | H10: Responsable de salle | I10: Lyon | J10: =IF(OR($D10="",$E10=""),"",MOD($E10-$D10,1)*24-IF($F10="",0,$F10)) | K10: =IF($G10="","",IFERROR(VLOOKUP($G10,'Équipe'!$A$2:$G$101,6,FALSE),0)) | L10: =IF(OR($J10="",$K10=""),"",$J10*$K10) | M10: =IF($G10="","",IF(COUNTIF('Équipe'!$A$2:$A$101,$G10)>0,"Référencé","À vérifier")) | N10: Confirmé | O10: Supervision du service
A11: 46306 | B11: =IF($A11="","",TEXT($A11,"dddd")) | C11: Déjeuner | D11: 0.4375 | E11: 0.625 | F11: 0.25 | G11: Lucas Fournier | H11: Cuisinier | I11: Lyon | J11: =IF(OR($D11="",$E11=""),"",MOD($E11-$D11,1)*24-IF($F11="",0,$F11)) | K11: =IF($G11="","",IFERROR(VLOOKUP($G11,'Équipe'!$A$2:$G$101,6,FALSE),0)) | L11: =IF(OR($J11="",$K11=""),"",$J11*$K11) | M11: =IF($G11="","",IF(COUNTIF('Équipe'!$A$2:$A$101,$G11)>0,"Référencé","À vérifier")) | N11: Absent | O11: Absence signalée
B12: =IF($A12="","",TEXT($A12,"dddd")) | J12: =IF(OR($D12="",$E12=""),"",MOD($E12-$D12,1)*24-IF($F12="",0,$F12)) | K12: =IF($G12="","",IFERROR(VLOOKUP($G12,'Équipe'!$A$2:$G$101,6,FALSE),0)) | L12: =IF(OR($J12="",$K12=""),"",$J12*$K12) | M12: =IF($G12="","",IF(COUNTIF('Équipe'!$A$2:$A$101,$G12)>0,"Référencé","À vérifier"))
B13: =IF($A13="","",TEXT($A13,"dddd")) | J13: =IF(OR($D13="",$E13=""),"",MOD($E13-$D13,1)*24-IF($F13="",0,$F13)) | K13: =IF($G13="","",IFERROR(VLOOKUP($G13,'Équipe'!$A$2:$G$101,6,FALSE),0)) | L13: =IF(OR($J13="",$K13=""),"",$J13*$K13) | M13: =IF($G13="","",IF(COUNTIF('Équipe'!$A$2:$A$101,$G13)>0,"Référencé","À vérifier"))
B14: =IF($A14="","",TEXT($A14,"dddd")) | J14: =IF(OR($D14="",$E14=""),"",MOD($E14-$D14,1)*24-IF($F14="",0,$F14)) | K14: =IF($G14="","",IFERROR(VLOOKUP($G14,'Équipe'!$A$2:$G$101,6,FALSE),0)) | L14: =IF(OR($J14="",$K14=""),"",$J14*$K14) | M14: =IF($G14="","",IF(COUNTIF('Équipe'!$A$2:$A$101,$G14)>0,"Référencé","À vérifier"))
B15: =IF($A15="","",TEXT($A15,"dddd")) | J15: =IF(OR($D15="",$E15=""),"",MOD($E15-$D15,1)*24-IF($F15="",0,$F15)) | K15: =IF($G15="","",IFERROR(VLOOKUP($G15,'Équipe'!$A$2:$G$101,6,FALSE),0)) | L15: =IF(OR($J15="",$K15=""),"",$J15*$K15) | M15: =IF($G15="","",IF(COUNTIF('Équipe'!$A$2:$A$101,$G15)>0,"Référencé","À vérifier"))
B16: =IF($A16="","",TEXT($A16,"dddd")) | J16: =IF(OR($D16="",$E16=""),"",MOD($E16-$D16,1)*24-IF($F16="",0,$F16)) | K16: =IF($G16="","",IFERROR(VLOOKUP($G16,'Équipe'!$A$2:$G$101,6,FALSE),0)) | L16: =IF(OR($J16="",$K16=""),"",$J16*$K16) | M16: =IF($G16="","",IF(COUNTIF('Équipe'!$A$2:$A$101,$G16)>0,"Référencé","À vérifier"))
B17: =IF($A17="","",TEXT($A17,"dddd")) | J17: =IF(OR($D17="",$E17=""),"",MOD($E17-$D17,1)*24-IF($F17="",0,$F17)) | K17: =IF($G17="","",IFERROR(VLOOKUP($G17,'Équipe'!$A$2:$G$101,6,FALSE),0)) | L17: =IF(OR($J17="",$K17=""),"",$J17*$K17) | M17: =IF($G17="","",IF(COUNTIF('Équipe'!$A$2:$A$101,$G17)>0,"Référencé","À vérifier"))
B18: =IF($A18="","",TEXT($A18,"dddd")) | J18: =IF(OR($D18="",$E18=""),"",MOD($E18-$D18,1)*24-IF($F18="",0,$F18)) | K18: =IF($G18="","",IFERROR(VLOOKUP($G18,'Équipe'!$A$2:$G$101,6,FALSE),0)) | L18: =IF(OR($J18="",$K18=""),"",$J18*$K18) | M18: =IF($G18="","",IF(COUNTIF('Équipe'!$A$2:$A$101,$G18)>0,"Référencé","À vérifier"))
B19: =IF($A19="","",TEXT($A19,"dddd")) | J19: =IF(OR($D19="",$E19=""),"",MOD($E19-$D19,1)*24-IF($F19="",0,$F19)) | K19: =IF($G19="","",IFERROR(VLOOKUP($G19,'Équipe'!$A$2:$G$101,6,FALSE),0)) | L19: =IF(OR($J19="",$K19=""),"",$J19*$K19) | M19: =IF($G19="","",IF(COUNTIF('Équipe'!$A$2:$A$101,$G19)>0,"Référencé","À vérifier"))
B20: =IF($A20="","",TEXT($A20,"dddd")) | J20: =IF(OR($D20="",$E20=""),"",MOD($E20-$D20,1)*24-IF($F20="",0,$F20)) | K20: =IF($G20="","",IFERROR(VLOOKUP($G20,'Équipe'!$A$2:$G$101,6,FALSE),0)) | L20: =IF(OR($J20="",$K20=""),"",$J20*$K20) | M20: =IF($G20="","",IF(COUNTIF('Équipe'!$A$2:$A$101,$G20)>0,"Référencé","À vérifier"))
B21: =IF($A21="","",TEXT($A21,"dddd")) | J21: =IF(OR($D21="",$E21=""),"",MOD($E21-$D21,1)*24-IF($F21="",0,$F21)) | K21: =IF($G21="","",IFERROR(VLOOKUP($G21,'Équipe'!$A$2:$G$101,6,FALSE),0)) | L21: =IF(OR($J21="",$K21=""),"",$J21*$K21) | M21: =IF($G21="","",IF(COUNTIF('Équipe'!$A$2:$A$101,$G21)>0,"Référencé","À vérifier"))
B22: =IF($A22="","",TEXT($A22,"dddd")) | J22: =IF(OR($D22="",$E22=""),"",MOD($E22-$D22,1)*24-IF($F22="",0,$F22)) | K22: =IF($G22="","",IFERROR(VLOOKUP($G22,'Équipe'!$A$2:$G$101,6,FALSE),0)) | L22: =IF(OR($J22="",$K22=""),"",$J22*$K22) | M22: =IF($G22="","",IF(COUNTIF('Équipe'!$A$2:$A$101,$G22)>0,"Référencé","À vérifier"))
B23: =IF($A23="","",TEXT($A23,"dddd")) | J23: =IF(OR($D23="",$E23=""),"",MOD($E23-$D23,1)*24-IF($F23="",0,$F23)) | K23: =IF($G23="","",IFERROR(VLOOKUP($G23,'Équipe'!$A$2:$G$101,6,FALSE),0)) | L23: =IF(OR($J23="",$K23=""),"",$J23*$K23) | M23: =IF($G23="","",IF(COUNTIF('Équipe'!$A$2:$A$101,$G23)>0,"Référencé","À vérifier"))
... B101: =IF($A101="","",TEXT($A101,"dddd")) | J101: =IF(OR($D101="",$E101=""),"",MOD($E101-$D101,1)*24-IF($F101="",0,$F101)) | K101: =IF($G101="","",IFERROR(VLOOKUP($G101,'Équipe'!$A$2:$G$101,6,FALSE),0)) | L101: =IF(OR($J101="",$K101=""),"",$J101*$K101) | M101: =IF($G101="","",IF(COUNTIF('Équipe'!$A$2:$A$101,$G101)>0,"Référencé","À vérifier"))

Sheet Équipe
A1: Collaborateur | B1: Poste principal | C1: Contrat | D1: Ville | E1: Téléphone | F1: Taux horaire (€) | G1: Heures contractuelles hebdomadaires | H1: Disponibilité lundi | I1: Disponibilité mardi | J1: Disponibilité mercredi | K1: Disponibilité jeudi | L1: Disponibilité vendredi | M1: Disponibilité samedi | N1: Disponibilité dimanche
A2: Camille Martin | B2: Serveuse | C2: CDI | D2: Lyon | E2: 06 12 34 56 78 | F2: 14.2 | G2: 35 | H2: Disponible | I2: Disponible | J2: Disponible | K2: Disponible | L2: Disponible | M2: Disponible | N2: Disponible
A3: Julien Bernard | B3: Chef de cuisine | C3: CDI | D3: Lyon | E3: 06 23 45 67 89 | F3: 18.5 | G3: 39 | H3: Disponible | I3: Disponible | J3: Disponible | K3: Disponible | L3: Disponible | M3: Disponible | N3: Disponible
A4: Chloé Petit | B4: Commis de cuisine | C4: Alternance | D4: Lyon | E4: 06 34 56 78 90 | F4: 12.5 | G4: 35 | H4: Disponible | I4: Disponible | J4: Disponible | K4: Disponible | L4: Disponible | M4: Sous réserve | N4: Indisponible
A5: Thomas Robert | B5: Serveur | C5: CDI | D5: Lyon | E5: 06 45 67 89 01 | F5: 13.8 | G5: 35 | H5: Disponible | I5: Disponible | J5: Disponible | K5: Disponible | L5: Disponible | M5: Disponible | N5: Disponible
A6: Léa Moreau | B6: Barmaid | C6: Temps partiel | D6: Lyon | E6: 06 56 78 90 12 | F6: 13.5 | G6: 24 | H6: Indisponible | I6: Disponible | J6: Disponible | K6: Disponible | L6: Disponible | M6: Disponible | N6: Disponible
A7: Nicolas Leroy | B7: Second de cuisine | C7: CDI | D7: Lyon | E7: 06 67 89 01 23 | F7: 17.2 | G7: 39 | H7: Disponible | I7: Disponible | J7: Disponible | K7: Disponible | L7: Disponible | M7: Disponible | N7: Indisponible
A8: Manon Simon | B8: Serveuse | C8: CDD | D8: Lyon | E8: 06 78 90 12 34 | F8: 13.1 | G8: 28 | H8: Disponible | I8: Disponible | J8: Disponible | K8: Disponible | L8: Disponible | M8: Sous réserve | N8: Disponible
A9: Hugo Laurent | B9: Plongeur | C9: Extra | D9: Lyon | E9: 06 89 01 23 45 | F9: 12.8 | G9: 20 | H9: Indisponible | I9: Indisponible | J9: Disponible | K9: Disponible | L9: Disponible | M9: Disponible | N9: Disponible
A10: Émilie Roux | B10: Responsable de salle | C10: CDI | D10: Lyon | E10: 06 90 12 34 56 | F10: 18 | G10: 39 | H10: Disponible | I10: Disponible | J10: Disponible | K10: Disponible | L10: Disponible | M10: Disponible | N10: Disponible
A11: Lucas Fournier | B11: Cuisinier | C11: CDI | D11: Lyon | E11: 07 01 23 45 67 | F11: 15.5 | G11: 35 | H11: Disponible | I11: Disponible | J11: Disponible | K11: Disponible | L11: Disponible | M11: Disponible | N11: Disponible
A103: Total collaborateurs | B103: =COUNTA($A$2:$A$101) | D103: Taux horaire moyen | F103: =IFERROR(AVERAGE($F$2:$F$101),0) | H103: Heures contractuelles totales | I103: =SUM($G$2:$G$101)

Sheet Synthèse
A1: Tableau de bord hebdomadaire — Planning restauration
A2: Période de référence | B2: Du 05/10/2026 au 11/10/2026
A3: Total d’heures planifiées | B3: =SUM('Planning'!$J$2:$J$101)
A4: Coût total prévu | B4: =SUM('Planning'!$L$2:$L$101)
A5: Coût moyen par heure | B5: =IFERROR($B$4/$B$3,0)
A6: Nombre de services | B6: =COUNTA('Planning'!$C$2:$C$101)
A7: Nombre de collaborateurs planifiés | B7: =IFERROR(COUNTA(UNIQUE('Planning'!$G$2:$G$101))-IF(COUNTIF('Planning'!$G$2:$G$101,"")>0,1,0),0)
A8: Nombre de services à confirmer | B8: =COUNTIF('Planning'!$N$2:$N$101,"À confirmer")
A9: Taux de services confirmés | B9: =IFERROR(COUNTIF('Planning'!$N$2:$N$101,"Confirmé")/COUNTA('Planning'!$N$2:$N$101),0)
G11: Heures prévues par poste | J11: Heures planifiées par date
A12: Service | B12: Nombre de vacations | C12: Heures prévues | D12: Coût prévu | E12: Part du coût total | G12: Poste | H12: Heures prévues | J12: Date | K12: Heures prévues
A13: Déjeuner | B13: =COUNTIF('Planning'!$C$2:$C$101,$A13) | C13: =SUMIF('Planning'!$C$2:$C$101,$A13,'Planning'!$J$2:$J$101) | D13: =SUMIF('Planning'!$C$2:$C$101,$A13,'Planning'!$L$2:$L$101) | E13: =IFERROR($D13/$D$15,0) | G13: Serveuse | H13: =SUMIF('Planning'!$H$2:$H$101,$G13,'Planning'!$J$2:$J$101) | J13: 46300 | K13: =SUMIF('Planning'!$A$2:$A$101,$J13,'Planning'!$J$2:$J$101)
A14: Dîner | B14: =COUNTIF('Planning'!$C$2:$C$101,$A14) | C14: =SUMIF('Planning'!$C$2:$C$101,$A14,'Planning'!$J$2:$J$101) | D14: =SUMIF('Planning'!$C$2:$C$101,$A14,'Planning'!$L$2:$L$101) | E14: =IFERROR($D14/$D$15,0) | G14: Chef de cuisine | H14: =SUMIF('Planning'!$H$2:$H$101,$G14,'Planning'!$J$2:$J$101) | J14: 46301 | K14: =SUMIF('Planning'!$A$2:$A$101,$J14,'Planning'!$J$2:$J$101)
A15: Total | B15: =SUM($B$13:$B$14) | C15: =SUM($C$13:$C$14) | D15: =SUM($D$13:$D$14) | E15: =SUM($E$13:$E$14) | G15: Commis de cuisine | H15: =SUMIF('Planning'!$H$2:$H$101,$G15,'Planning'!$J$2:$J$101) | J15: 46302 | K15: =SUMIF('Planning'!$A$2:$A$101,$J15,'Planning'!$J$2:$J$101)
G16: Serveur | H16: =SUMIF('Planning'!$H$2:$H$101,$G16,'Planning'!$J$2:$J$101) | J16: 46303 | K16: =SUMIF('Planning'!$A$2:$A$101,$J16,'Planning'!$J$2:$J$101)
G17: Barmaid | H17: =SUMIF('Planning'!$H$2:$H$101,$G17,'Planning'!$J$2:$J$101) | J17: 46304 | K17: =SUMIF('Planning'!$A$2:$A$101,$J17,'Planning'!$J$2:$J$101)
G18: Second de cuisine | H18: =SUMIF('Planning'!$H$2:$H$101,$G18,'Planning'!$J$2:$J$101) | J18: 46305 | K18: =SUMIF('Planning'!$A$2:$A$101,$J18,'Planning'!$J$2:$J$101)
G19: Plongeur | H19: =SUMIF('Planning'!$H$2:$H$101,$G19,'Planning'!$J$2:$J$101) | J19: 46306 | K19: =SUMIF('Planning'!$A$2:$A$101,$J19,'Planning'!$J$2:$J$101)
G20: Responsable de salle | H20: =SUMIF('Planning'!$H$2:$H$101,$G20,'Planning'!$J$2:$J$101)
G21: Cuisinier | H21: =SUMIF('Planning'!$H$2:$H$101,$G21,'Planning'!$J$2:$J$101)

Sheet Mode d’emploi
A1: Mode d’emploi — Planning restauration
A3: Étape | B3: Consigne
A4: 1 | B4: Saisir ou modifier les collaborateurs, contrats, taux horaires et disponibilités dans la feuille « Équipe ».
A5: 2 | B5: Ajouter les vacations dans la feuille « Planning » en renseignant la date, le service, les horaires, la pause et le collaborateur.
A6: 3 | B6: Utiliser les listes déroulantes pour le poste, le service et le statut afin de conserver des données homogènes.
A7: 4 | B7: Vérifier les alertes « À vérifier » et « À confirmer » avant de finaliser le planning hebdomadaire.
A8: 5 | B8: Consulter la feuille « Synthèse » pour analyser les heures, les coûts, la couverture des postes et la répartition par service.
A9: 6 | B9: Respecter les règles applicables en France : durée du travail, pauses, repos quotidien, convention collective HCR et suivi des heures supplémentaires.
A12: Conseil | B12: Les cellules jaunes correspondent aux informations à saisir ou à modifier. Les colonnes de calcul se mettent à jour automatiquement dans Excel.
