Workbook

Sheet Planning
A1: ID planning | B1: Date | C1: Jour | D1: Collaborateur | E1: Fonction | F1: Site / Ville | G1: Type de créneau | H1: Heure de début | I1: Heure de fin | J1: Pause (h) | K1: Heures prévues | L1: Statut | M1: Heures réalisées | N1: Écart (h) | O1: Taux de réalisation | P1: Commentaire
A2: PLN-001 | B2: 46027 | C2: =IF(B2="","",CHOOSE(WEEKDAY(B2,2),"lundi","mardi","mercredi","jeudi","vendredi","samedi","dimanche")) | D2: Camille Martin | E2: =IFERROR(VLOOKUP(D2,'Équipe'!$A$2:$E$101,3,FALSE),"") | F2: =IFERROR(VLOOKUP(D2,'Équipe'!$A$2:$E$101,4,FALSE),"") | G2: Bureau | H2: 0.35416667 | I2: 0.70833333 | J2: 1 | K2: =IF(OR(H2="",I2=""),"",MAX(0,(I2-H2)*24-J2)) | L2: Confirmé | M2: 7.5 | N2: =IF(OR(M2="",K2=""),"",M2-K2) | O2: =IF(OR(M2="",K2=""),"",IFERROR(M2/K2,0)) | P2: Réunion de lancement client
A3: PLN-002 | B3: 46027 | C3: =IF(B3="","",CHOOSE(WEEKDAY(B3,2),"lundi","mardi","mercredi","jeudi","vendredi","samedi","dimanche")) | D3: Julien Bernard | E3: =IFERROR(VLOOKUP(D3,'Équipe'!$A$2:$E$101,3,FALSE),"") | F3: =IFERROR(VLOOKUP(D3,'Équipe'!$A$2:$E$101,4,FALSE),"") | G3: Télétravail | H3: 0.375 | I3: 0.72916667 | J3: 1 | K3: =IF(OR(H3="",I3=""),"",MAX(0,(I3-H3)*24-J3)) | L3: Confirmé | M3: 7.5 | N3: =IF(OR(M3="",K3=""),"",M3-K3) | O3: =IF(OR(M3="",K3=""),"",IFERROR(M3/K3,0)) | P3: Suivi portefeuille clients
A4: PLN-003 | B4: 46028 | C4: =IF(B4="","",CHOOSE(WEEKDAY(B4,2),"lundi","mardi","mercredi","jeudi","vendredi","samedi","dimanche")) | D4: Chloé Petit | E4: =IFERROR(VLOOKUP(D4,'Équipe'!$A$2:$E$101,3,FALSE),"") | F4: =IFERROR(VLOOKUP(D4,'Équipe'!$A$2:$E$101,4,FALSE),"") | G4: Bureau | H4: 0.35416667 | I4: 0.6875 | J4: 0.5 | K4: =IF(OR(H4="",I4=""),"",MAX(0,(I4-H4)*24-J4)) | L4: Confirmé | M4: 7.4 | N4: =IF(OR(M4="",K4=""),"",M4-K4) | O4: =IF(OR(M4="",K4=""),"",IFERROR(M4/K4,0)) | P4: Traitement administratif
A5: PLN-004 | B5: 46028 | C5: =IF(B5="","",CHOOSE(WEEKDAY(B5,2),"lundi","mardi","mercredi","jeudi","vendredi","samedi","dimanche")) | D5: Thomas Leroy | E5: =IFERROR(VLOOKUP(D5,'Équipe'!$A$2:$E$101,3,FALSE),"") | F5: =IFERROR(VLOOKUP(D5,'Équipe'!$A$2:$E$101,4,FALSE),"") | G5: Déplacement | H5: 0.3125 | I5: 0.70833333 | J5: 1 | K5: =IF(OR(H5="",I5=""),"",MAX(0,(I5-H5)*24-J5)) | L5: Confirmé | M5: 8 | N5: =IF(OR(M5="",K5=""),"",M5-K5) | O5: =IF(OR(M5="",K5=""),"",IFERROR(M5/K5,0)) | P5: Intervention sur site
A6: PLN-005 | B6: 46029 | C6: =IF(B6="","",CHOOSE(WEEKDAY(B6,2),"lundi","mardi","mercredi","jeudi","vendredi","samedi","dimanche")) | D6: Léa Moreau | E6: =IFERROR(VLOOKUP(D6,'Équipe'!$A$2:$E$101,3,FALSE),"") | F6: =IFERROR(VLOOKUP(D6,'Équipe'!$A$2:$E$101,4,FALSE),"") | G6: Formation | H6: 0.375 | I6: 0.72916667 | J6: 1 | K6: =IF(OR(H6="",I6=""),"",MAX(0,(I6-H6)*24-J6)) | L6: À confirmer | M6: 6.5 | N6: =IF(OR(M6="",K6=""),"",M6-K6) | O6: =IF(OR(M6="",K6=""),"",IFERROR(M6/K6,0)) | P6: Formation management
A7: PLN-006 | B7: 46029 | C7: =IF(B7="","",CHOOSE(WEEKDAY(B7,2),"lundi","mardi","mercredi","jeudi","vendredi","samedi","dimanche")) | D7: Nicolas Garcia | E7: =IFERROR(VLOOKUP(D7,'Équipe'!$A$2:$E$101,3,FALSE),"") | F7: =IFERROR(VLOOKUP(D7,'Équipe'!$A$2:$E$101,4,FALSE),"") | G7: Bureau | H7: 0.35416667 | I7: 0.70833333 | J7: 1 | K7: =IF(OR(H7="",I7=""),"",MAX(0,(I7-H7)*24-J7)) | L7: Confirmé | M7: 7.8 | N7: =IF(OR(M7="",K7=""),"",M7-K7) | O7: =IF(OR(M7="",K7=""),"",IFERROR(M7/K7,0)) | P7: Prospection commerciale
A8: PLN-007 | B8: 46030 | C8: =IF(B8="","",CHOOSE(WEEKDAY(B8,2),"lundi","mardi","mercredi","jeudi","vendredi","samedi","dimanche")) | D8: Manon Roux | E8: =IFERROR(VLOOKUP(D8,'Équipe'!$A$2:$E$101,3,FALSE),"") | F8: =IFERROR(VLOOKUP(D8,'Équipe'!$A$2:$E$101,4,FALSE),"") | G8: Télétravail | H8: 0.35416667 | I8: 0.70833333 | J8: 1 | K8: =IF(OR(H8="",I8=""),"",MAX(0,(I8-H8)*24-J8)) | L8: Confirmé | M8: 7.5 | N8: =IF(OR(M8="",K8=""),"",M8-K8) | O8: =IF(OR(M8="",K8=""),"",IFERROR(M8/K8,0)) | P8: Préparation comité projet
A9: PLN-008 | B9: 46030 | C9: =IF(B9="","",CHOOSE(WEEKDAY(B9,2),"lundi","mardi","mercredi","jeudi","vendredi","samedi","dimanche")) | D9: Hugo Fournier | E9: =IFERROR(VLOOKUP(D9,'Équipe'!$A$2:$E$101,3,FALSE),"") | F9: =IFERROR(VLOOKUP(D9,'Équipe'!$A$2:$E$101,4,FALSE),"") | G9: Congé | H9: 0.375 | I9: 0.70833333 | J9: 0 | K9: =IF(OR(H9="",I9=""),"",MAX(0,(I9-H9)*24-J9)) | L9: Annulé | M9: 0 | N9: =IF(OR(M9="",K9=""),"",M9-K9) | O9: =IF(OR(M9="",K9=""),"",IFERROR(M9/K9,0)) | P9: Congé posé
A10: PLN-009 | B10: 46031 | C10: =IF(B10="","",CHOOSE(WEEKDAY(B10,2),"lundi","mardi","mercredi","jeudi","vendredi","samedi","dimanche")) | D10: Émilie Lambert | E10: =IFERROR(VLOOKUP(D10,'Équipe'!$A$2:$E$101,3,FALSE),"") | F10: =IFERROR(VLOOKUP(D10,'Équipe'!$A$2:$E$101,4,FALSE),"") | G10: Bureau | H10: 0.35416667 | I10: 0.6875 | J10: 0.5 | K10: =IF(OR(H10="",I10=""),"",MAX(0,(I10-H10)*24-J10)) | L10: Confirmé | M10: 7.2 | N10: =IF(OR(M10="",K10=""),"",M10-K10) | O10: =IF(OR(M10="",K10=""),"",IFERROR(M10/K10,0)) | P10: Accueil et gestion dossiers
A11: PLN-010 | B11: 46031 | C11: =IF(B11="","",CHOOSE(WEEKDAY(B11,2),"lundi","mardi","mercredi","jeudi","vendredi","samedi","dimanche")) | D11: Lucas Mercier | E11: =IFERROR(VLOOKUP(D11,'Équipe'!$A$2:$E$101,3,FALSE),"") | F11: =IFERROR(VLOOKUP(D11,'Équipe'!$A$2:$E$101,4,FALSE),"") | G11: Déplacement | H11: 0.3125 | I11: 0.6875 | J11: 0.5 | K11: =IF(OR(H11="",I11=""),"",MAX(0,(I11-H11)*24-J11)) | L11: À confirmer | M11: 7 | N11: =IF(OR(M11="",K11=""),"",M11-K11) | O11: =IF(OR(M11="",K11=""),"",IFERROR(M11/K11,0)) | P11: Rendez-vous partenaires
C12: =IF(B12="","",CHOOSE(WEEKDAY(B12,2),"lundi","mardi","mercredi","jeudi","vendredi","samedi","dimanche")) | E12: =IFERROR(VLOOKUP(D12,'Équipe'!$A$2:$E$101,3,FALSE),"") | F12: =IFERROR(VLOOKUP(D12,'Équipe'!$A$2:$E$101,4,FALSE),"") | K12: =IF(OR(H12="",I12=""),"",MAX(0,(I12-H12)*24-J12)) | N12: =IF(OR(M12="",K12=""),"",M12-K12) | O12: =IF(OR(M12="",K12=""),"",IFERROR(M12/K12,0))
C13: =IF(B13="","",CHOOSE(WEEKDAY(B13,2),"lundi","mardi","mercredi","jeudi","vendredi","samedi","dimanche")) | E13: =IFERROR(VLOOKUP(D13,'Équipe'!$A$2:$E$101,3,FALSE),"") | F13: =IFERROR(VLOOKUP(D13,'Équipe'!$A$2:$E$101,4,FALSE),"") | K13: =IF(OR(H13="",I13=""),"",MAX(0,(I13-H13)*24-J13)) | N13: =IF(OR(M13="",K13=""),"",M13-K13) | O13: =IF(OR(M13="",K13=""),"",IFERROR(M13/K13,0))
C14: =IF(B14="","",CHOOSE(WEEKDAY(B14,2),"lundi","mardi","mercredi","jeudi","vendredi","samedi","dimanche")) | E14: =IFERROR(VLOOKUP(D14,'Équipe'!$A$2:$E$101,3,FALSE),"") | F14: =IFERROR(VLOOKUP(D14,'Équipe'!$A$2:$E$101,4,FALSE),"") | K14: =IF(OR(H14="",I14=""),"",MAX(0,(I14-H14)*24-J14)) | N14: =IF(OR(M14="",K14=""),"",M14-K14) | O14: =IF(OR(M14="",K14=""),"",IFERROR(M14/K14,0))
C15: =IF(B15="","",CHOOSE(WEEKDAY(B15,2),"lundi","mardi","mercredi","jeudi","vendredi","samedi","dimanche")) | E15: =IFERROR(VLOOKUP(D15,'Équipe'!$A$2:$E$101,3,FALSE),"") | F15: =IFERROR(VLOOKUP(D15,'Équipe'!$A$2:$E$101,4,FALSE),"") | K15: =IF(OR(H15="",I15=""),"",MAX(0,(I15-H15)*24-J15)) | N15: =IF(OR(M15="",K15=""),"",M15-K15) | O15: =IF(OR(M15="",K15=""),"",IFERROR(M15/K15,0))
C16: =IF(B16="","",CHOOSE(WEEKDAY(B16,2),"lundi","mardi","mercredi","jeudi","vendredi","samedi","dimanche")) | E16: =IFERROR(VLOOKUP(D16,'Équipe'!$A$2:$E$101,3,FALSE),"") | F16: =IFERROR(VLOOKUP(D16,'Équipe'!$A$2:$E$101,4,FALSE),"") | K16: =IF(OR(H16="",I16=""),"",MAX(0,(I16-H16)*24-J16)) | N16: =IF(OR(M16="",K16=""),"",M16-K16) | O16: =IF(OR(M16="",K16=""),"",IFERROR(M16/K16,0))
C17: =IF(B17="","",CHOOSE(WEEKDAY(B17,2),"lundi","mardi","mercredi","jeudi","vendredi","samedi","dimanche")) | E17: =IFERROR(VLOOKUP(D17,'Équipe'!$A$2:$E$101,3,FALSE),"") | F17: =IFERROR(VLOOKUP(D17,'Équipe'!$A$2:$E$101,4,FALSE),"") | K17: =IF(OR(H17="",I17=""),"",MAX(0,(I17-H17)*24-J17)) | N17: =IF(OR(M17="",K17=""),"",M17-K17) | O17: =IF(OR(M17="",K17=""),"",IFERROR(M17/K17,0))
C18: =IF(B18="","",CHOOSE(WEEKDAY(B18,2),"lundi","mardi","mercredi","jeudi","vendredi","samedi","dimanche")) | E18: =IFERROR(VLOOKUP(D18,'Équipe'!$A$2:$E$101,3,FALSE),"") | F18: =IFERROR(VLOOKUP(D18,'Équipe'!$A$2:$E$101,4,FALSE),"") | K18: =IF(OR(H18="",I18=""),"",MAX(0,(I18-H18)*24-J18)) | N18: =IF(OR(M18="",K18=""),"",M18-K18) | O18: =IF(OR(M18="",K18=""),"",IFERROR(M18/K18,0))
C19: =IF(B19="","",CHOOSE(WEEKDAY(B19,2),"lundi","mardi","mercredi","jeudi","vendredi","samedi","dimanche")) | E19: =IFERROR(VLOOKUP(D19,'Équipe'!$A$2:$E$101,3,FALSE),"") | F19: =IFERROR(VLOOKUP(D19,'Équipe'!$A$2:$E$101,4,FALSE),"") | K19: =IF(OR(H19="",I19=""),"",MAX(0,(I19-H19)*24-J19)) | N19: =IF(OR(M19="",K19=""),"",M19-K19) | O19: =IF(OR(M19="",K19=""),"",IFERROR(M19/K19,0))
C20: =IF(B20="","",CHOOSE(WEEKDAY(B20,2),"lundi","mardi","mercredi","jeudi","vendredi","samedi","dimanche")) | E20: =IFERROR(VLOOKUP(D20,'Équipe'!$A$2:$E$101,3,FALSE),"") | F20: =IFERROR(VLOOKUP(D20,'Équipe'!$A$2:$E$101,4,FALSE),"") | K20: =IF(OR(H20="",I20=""),"",MAX(0,(I20-H20)*24-J20)) | N20: =IF(OR(M20="",K20=""),"",M20-K20) | O20: =IF(OR(M20="",K20=""),"",IFERROR(M20/K20,0))
C21: =IF(B21="","",CHOOSE(WEEKDAY(B21,2),"lundi","mardi","mercredi","jeudi","vendredi","samedi","dimanche")) | E21: =IFERROR(VLOOKUP(D21,'Équipe'!$A$2:$E$101,3,FALSE),"") | F21: =IFERROR(VLOOKUP(D21,'Équipe'!$A$2:$E$101,4,FALSE),"") | K21: =IF(OR(H21="",I21=""),"",MAX(0,(I21-H21)*24-J21)) | N21: =IF(OR(M21="",K21=""),"",M21-K21) | O21: =IF(OR(M21="",K21=""),"",IFERROR(M21/K21,0))
C22: =IF(B22="","",CHOOSE(WEEKDAY(B22,2),"lundi","mardi","mercredi","jeudi","vendredi","samedi","dimanche")) | E22: =IFERROR(VLOOKUP(D22,'Équipe'!$A$2:$E$101,3,FALSE),"") | F22: =IFERROR(VLOOKUP(D22,'Équipe'!$A$2:$E$101,4,FALSE),"") | K22: =IF(OR(H22="",I22=""),"",MAX(0,(I22-H22)*24-J22)) | N22: =IF(OR(M22="",K22=""),"",M22-K22) | O22: =IF(OR(M22="",K22=""),"",IFERROR(M22/K22,0))
C23: =IF(B23="","",CHOOSE(WEEKDAY(B23,2),"lundi","mardi","mercredi","jeudi","vendredi","samedi","dimanche")) | E23: =IFERROR(VLOOKUP(D23,'Équipe'!$A$2:$E$101,3,FALSE),"") | F23: =IFERROR(VLOOKUP(D23,'Équipe'!$A$2:$E$101,4,FALSE),"") | K23: =IF(OR(H23="",I23=""),"",MAX(0,(I23-H23)*24-J23)) | N23: =IF(OR(M23="",K23=""),"",M23-K23) | O23: =IF(OR(M23="",K23=""),"",IFERROR(M23/K23,0))
... C111: =IF(B111="","",CHOOSE(WEEKDAY(B111,2),"lundi","mardi","mercredi","jeudi","vendredi","samedi","dimanche")) | E111: =IFERROR(VLOOKUP(D111,'Équipe'!$A$2:$E$101,3,FALSE),"") | F111: =IFERROR(VLOOKUP(D111,'Équipe'!$A$2:$E$101,4,FALSE),"") | K111: =IF(OR(H111="",I111=""),"",MAX(0,(I111-H111)*24-J111)) | N111: =IF(OR(M111="",K111=""),"",M111-K111) | O111: =IF(OR(M111="",K111=""),"",IFERROR(M111/K111,0))
A112: Totaux | K112: =SUM('Planning'!$K$2:$K$111) | M112: =SUM('Planning'!$M$2:$M$111) | N112: =SUM('Planning'!$N$2:$N$111) | O112: =IFERROR(AVERAGE('Planning'!$O$2:$O$111),0)

Sheet Équipe
A1: Collaborateur | B1: Matricule | C1: Fonction | D1: Site principal | E1: Taux horaire (€)
A2: Camille Martin | B2: MAT-2026-001 | C2: Cheffe de projet | D2: Paris | E2: 42
A3: Julien Bernard | B3: MAT-2026-002 | C3: Chargé de clientèle | D3: Lyon | E3: 32
A4: Chloé Petit | B4: MAT-2026-003 | C4: Assistante administrative | D4: Marseille | E4: 28
A5: Thomas Leroy | B5: MAT-2026-004 | C5: Technicien | D5: Toulouse | E5: 30
A6: Léa Moreau | B6: MAT-2026-005 | C6: Responsable RH | D6: Bordeaux | E6: 38
A7: Nicolas Garcia | B7: MAT-2026-006 | C7: Commercial | D7: Lille | E7: 35
A8: Manon Roux | B8: MAT-2026-007 | C8: Cheffe de projet | D8: Nantes | E8: 40
A9: Hugo Fournier | B9: MAT-2026-008 | C9: Technicien | D9: Strasbourg | E9: 29
A10: Émilie Lambert | B10: MAT-2026-009 | C10: Assistante administrative | D10: Rennes | E10: 27
A11: Lucas Mercier | B11: MAT-2026-010 | C11: Commercial | D11: Paris | E11: 34

Sheet Synthèse
A1: Synthèse du planning
A2: Indicateurs consolidés sur l'ensemble des créneaux préparés.
A3: Indicateurs clés | B3: Valeur
A4: Nombre total de créneaux | B4: =COUNTA('Planning'!$A$2:$A$111)
A5: Créneaux confirmés | B5: =COUNTIF('Planning'!$L$2:$L$111,"Confirmé")
A6: Créneaux à confirmer | B6: =COUNTIF('Planning'!$L$2:$L$111,"À confirmer")
A7: Heures prévues totales | B7: =SUM('Planning'!$K$2:$K$111)
A8: Heures réalisées totales | B8: =SUM('Planning'!$M$2:$M$111)
A9: Taux moyen de réalisation | B9: =IFERROR(AVERAGE('Planning'!$O$2:$O$111),0)
A10: Écart total d'heures | B10: =SUM('Planning'!$N$2:$N$111)
A12: Charge par collaborateur | E12: Répartition des statuts | H12: Suivi par date
A13: Collaborateur | B13: Nombre de créneaux | C13: Heures prévues | E13: Statut | F13: Créneaux | H13: Date | I13: Heures prévues | J13: Heures réalisées
A14: =IF('Équipe'!A2="","",'Équipe'!A2) | B14: =IF(A14="","",COUNTIF('Planning'!$D$2:$D$111,A14)) | C14: =IF(A14="","",SUMIF('Planning'!$D$2:$D$111,A14,'Planning'!$K$2:$K$111)) | E14: Confirmé | F14: =COUNTIF('Planning'!$L$2:$L$111,E14) | H14: =IF('Planning'!B2="","",'Planning'!B2) | I14: =IF(H14="","",'Planning'!K2) | J14: =IF(H14="","",'Planning'!M2)
A15: =IF('Équipe'!A3="","",'Équipe'!A3) | B15: =IF(A15="","",COUNTIF('Planning'!$D$2:$D$111,A15)) | C15: =IF(A15="","",SUMIF('Planning'!$D$2:$D$111,A15,'Planning'!$K$2:$K$111)) | E15: À confirmer | F15: =COUNTIF('Planning'!$L$2:$L$111,E15) | H15: =IF('Planning'!B3="","",'Planning'!B3) | I15: =IF(H15="","",'Planning'!K3) | J15: =IF(H15="","",'Planning'!M3)
A16: =IF('Équipe'!A4="","",'Équipe'!A4) | B16: =IF(A16="","",COUNTIF('Planning'!$D$2:$D$111,A16)) | C16: =IF(A16="","",SUMIF('Planning'!$D$2:$D$111,A16,'Planning'!$K$2:$K$111)) | E16: Annulé | F16: =COUNTIF('Planning'!$L$2:$L$111,E16) | H16: =IF('Planning'!B4="","",'Planning'!B4) | I16: =IF(H16="","",'Planning'!K4) | J16: =IF(H16="","",'Planning'!M4)
A17: =IF('Équipe'!A5="","",'Équipe'!A5) | B17: =IF(A17="","",COUNTIF('Planning'!$D$2:$D$111,A17)) | C17: =IF(A17="","",SUMIF('Planning'!$D$2:$D$111,A17,'Planning'!$K$2:$K$111)) | H17: =IF('Planning'!B5="","",'Planning'!B5) | I17: =IF(H17="","",'Planning'!K5) | J17: =IF(H17="","",'Planning'!M5)
A18: =IF('Équipe'!A6="","",'Équipe'!A6) | B18: =IF(A18="","",COUNTIF('Planning'!$D$2:$D$111,A18)) | C18: =IF(A18="","",SUMIF('Planning'!$D$2:$D$111,A18,'Planning'!$K$2:$K$111)) | H18: =IF('Planning'!B6="","",'Planning'!B6) | I18: =IF(H18="","",'Planning'!K6) | J18: =IF(H18="","",'Planning'!M6)
A19: =IF('Équipe'!A7="","",'Équipe'!A7) | B19: =IF(A19="","",COUNTIF('Planning'!$D$2:$D$111,A19)) | C19: =IF(A19="","",SUMIF('Planning'!$D$2:$D$111,A19,'Planning'!$K$2:$K$111)) | H19: =IF('Planning'!B7="","",'Planning'!B7) | I19: =IF(H19="","",'Planning'!K7) | J19: =IF(H19="","",'Planning'!M7)
A20: =IF('Équipe'!A8="","",'Équipe'!A8) | B20: =IF(A20="","",COUNTIF('Planning'!$D$2:$D$111,A20)) | C20: =IF(A20="","",SUMIF('Planning'!$D$2:$D$111,A20,'Planning'!$K$2:$K$111)) | H20: =IF('Planning'!B8="","",'Planning'!B8) | I20: =IF(H20="","",'Planning'!K8) | J20: =IF(H20="","",'Planning'!M8)
A21: =IF('Équipe'!A9="","",'Équipe'!A9) | B21: =IF(A21="","",COUNTIF('Planning'!$D$2:$D$111,A21)) | C21: =IF(A21="","",SUMIF('Planning'!$D$2:$D$111,A21,'Planning'!$K$2:$K$111)) | H21: =IF('Planning'!B9="","",'Planning'!B9) | I21: =IF(H21="","",'Planning'!K9) | J21: =IF(H21="","",'Planning'!M9)
A22: =IF('Équipe'!A10="","",'Équipe'!A10) | B22: =IF(A22="","",COUNTIF('Planning'!$D$2:$D$111,A22)) | C22: =IF(A22="","",SUMIF('Planning'!$D$2:$D$111,A22,'Planning'!$K$2:$K$111)) | H22: =IF('Planning'!B10="","",'Planning'!B10) | I22: =IF(H22="","",'Planning'!K10) | J22: =IF(H22="","",'Planning'!M10)
A23: =IF('Équipe'!A11="","",'Équipe'!A11) | B23: =IF(A23="","",COUNTIF('Planning'!$D$2:$D$111,A23)) | C23: =IF(A23="","",SUMIF('Planning'!$D$2:$D$111,A23,'Planning'!$K$2:$K$111)) | H23: =IF('Planning'!B11="","",'Planning'!B11) | I23: =IF(H23="","",'Planning'!K11) | J23: =IF(H23="","",'Planning'!M11)
A24: =IF('Équipe'!A12="","",'Équipe'!A12) | B24: =IF(A24="","",COUNTIF('Planning'!$D$2:$D$111,A24)) | C24: =IF(A24="","",SUMIF('Planning'!$D$2:$D$111,A24,'Planning'!$K$2:$K$111)) | H24: =IF('Planning'!B12="","",'Planning'!B12) | I24: =IF(H24="","",'Planning'!K12) | J24: =IF(H24="","",'Planning'!M12)
A25: =IF('Équipe'!A13="","",'Équipe'!A13) | B25: =IF(A25="","",COUNTIF('Planning'!$D$2:$D$111,A25)) | C25: =IF(A25="","",SUMIF('Planning'!$D$2:$D$111,A25,'Planning'!$K$2:$K$111)) | H25: =IF('Planning'!B13="","",'Planning'!B13) | I25: =IF(H25="","",'Planning'!K13) | J25: =IF(H25="","",'Planning'!M13)
A26: =IF('Équipe'!A14="","",'Équipe'!A14) | B26: =IF(A26="","",COUNTIF('Planning'!$D$2:$D$111,A26)) | C26: =IF(A26="","",SUMIF('Planning'!$D$2:$D$111,A26,'Planning'!$K$2:$K$111)) | H26: =IF('Planning'!B14="","",'Planning'!B14) | I26: =IF(H26="","",'Planning'!K14) | J26: =IF(H26="","",'Planning'!M14)
A27: =IF('Équipe'!A15="","",'Équipe'!A15) | B27: =IF(A27="","",COUNTIF('Planning'!$D$2:$D$111,A27)) | C27: =IF(A27="","",SUMIF('Planning'!$D$2:$D$111,A27,'Planning'!$K$2:$K$111)) | H27: =IF('Planning'!B15="","",'Planning'!B15) | I27: =IF(H27="","",'Planning'!K15) | J27: =IF(H27="","",'Planning'!M15)
A28: =IF('Équipe'!A16="","",'Équipe'!A16) | B28: =IF(A28="","",COUNTIF('Planning'!$D$2:$D$111,A28)) | C28: =IF(A28="","",SUMIF('Planning'!$D$2:$D$111,A28,'Planning'!$K$2:$K$111)) | H28: =IF('Planning'!B16="","",'Planning'!B16) | I28: =IF(H28="","",'Planning'!K16) | J28: =IF(H28="","",'Planning'!M16)
... A113: =IF('Équipe'!A101="","",'Équipe'!A101) | B113: =IF(A113="","",COUNTIF('Planning'!$D$2:$D$111,A113)) | C113: =IF(A113="","",SUMIF('Planning'!$D$2:$D$111,A113,'Planning'!$K$2:$K$111)) | H113: =IF('Planning'!B101="","",'Planning'!B101) | I113: =IF(H113="","",'Planning'!K101) | J113: =IF(H113="","",'Planning'!M101)
H114: =IF('Planning'!B102="","",'Planning'!B102) | I114: =IF(H114="","",'Planning'!K102) | J114: =IF(H114="","",'Planning'!M102)
H115: =IF('Planning'!B103="","",'Planning'!B103) | I115: =IF(H115="","",'Planning'!K103) | J115: =IF(H115="","",'Planning'!M103)
H116: =IF('Planning'!B104="","",'Planning'!B104) | I116: =IF(H116="","",'Planning'!K104) | J116: =IF(H116="","",'Planning'!M104)
H117: =IF('Planning'!B105="","",'Planning'!B105) | I117: =IF(H117="","",'Planning'!K105) | J117: =IF(H117="","",'Planning'!M105)
H118: =IF('Planning'!B106="","",'Planning'!B106) | I118: =IF(H118="","",'Planning'!K106) | J118: =IF(H118="","",'Planning'!M106)
H119: =IF('Planning'!B107="","",'Planning'!B107) | I119: =IF(H119="","",'Planning'!K107) | J119: =IF(H119="","",'Planning'!M107)
H120: =IF('Planning'!B108="","",'Planning'!B108) | I120: =IF(H120="","",'Planning'!K108) | J120: =IF(H120="","",'Planning'!M108)
H121: =IF('Planning'!B109="","",'Planning'!B109) | I121: =IF(H121="","",'Planning'!K109) | J121: =IF(H121="","",'Planning'!M109)
H122: =IF('Planning'!B110="","",'Planning'!B110) | I122: =IF(H122="","",'Planning'!K110) | J122: =IF(H122="","",'Planning'!M110)
H123: =IF('Planning'!B111="","",'Planning'!B111) | I123: =IF(H123="","",'Planning'!K111) | J123: =IF(H123="","",'Planning'!M111)

Sheet Instructions
A1: Instructions d'utilisation du planning
A3: Étape | B3: Consigne | C3: Conseil pratique
A4: 1 | B4: Saisir ou modifier les créneaux dans la feuille Planning. | C4: Les cellules jaunes correspondent aux informations modifiables.
A5: 2 | B5: Sélectionner les collaborateurs dans la liste de référence. | C5: Utiliser la liste déroulante de la colonne Collaborateur.
A6: 3 | B6: Vérifier les heures prévues, réalisées et les écarts. | C6: Les écarts négatifs et les taux inférieurs à 90 % sont signalés en rouge.
A7: 4 | B7: Utiliser la feuille Synthèse pour suivre la charge et les absences. | C7: Les graphiques utilisent l'ensemble des lignes préparées du planning.
A8: 5 | B8: Ajouter les nouveaux collaborateurs dans la feuille Équipe avant de les affecter au planning. | C8: Renseigner le collaborateur, la fonction, le site principal et le taux horaire.
A11: Repères visuels
A12: Cellule jaune | B12: Information à saisir ou à modifier | C12: Saisie
A13: Cellule verte | B13: Créneau confirmé ou écart positif | C13: Suivi favorable
A14: Cellule orange | B14: Créneau à confirmer ou total | C14: Vérification nécessaire
A15: Cellule rouge | B15: Annulation, écart négatif ou taux faible | C15: Alerte
